BEGIN:VCALENDAR
VERSION:2.0
PRODID:-//DataverseLV - ECPv6.15.20//NONSGML v1.0//EN
CALSCALE:GREGORIAN
METHOD:PUBLISH
X-ORIGINAL-URL:https://dataverse.lv/en/
X-WR-CALDESC:Events for DataverseLV
REFRESH-INTERVAL;VALUE=DURATION:PT1H
X-Robots-Tag:noindex
X-PUBLISHED-TTL:PT1H
BEGIN:VTIMEZONE
TZID:Europe/Helsinki
BEGIN:DAYLIGHT
TZOFFSETFROM:+0200
TZOFFSETTO:+0300
TZNAME:EEST
DTSTART:20250330T010000
END:DAYLIGHT
BEGIN:STANDARD
TZOFFSETFROM:+0300
TZOFFSETTO:+0200
TZNAME:EET
DTSTART:20251026T010000
END:STANDARD
BEGIN:DAYLIGHT
TZOFFSETFROM:+0200
TZOFFSETTO:+0300
TZNAME:EEST
DTSTART:20260329T010000
END:DAYLIGHT
BEGIN:STANDARD
TZOFFSETFROM:+0300
TZOFFSETTO:+0200
TZNAME:EET
DTSTART:20261025T010000
END:STANDARD
BEGIN:DAYLIGHT
TZOFFSETFROM:+0200
TZOFFSETTO:+0300
TZNAME:EEST
DTSTART:20270328T010000
END:DAYLIGHT
BEGIN:STANDARD
TZOFFSETFROM:+0300
TZOFFSETTO:+0200
TZNAME:EET
DTSTART:20271031T010000
END:STANDARD
END:VTIMEZONE
BEGIN:VEVENT
DTSTART;TZID=Europe/Helsinki:20260422T110000
DTEND;TZID=Europe/Helsinki:20260422T123000
DTSTAMP:20260420T115814
CREATED:20260408T170335Z
LAST-MODIFIED:20260415T080941Z
UID:4536-1776855600-1776861000@dataverse.lv
SUMMARY:Vebinārs “Pētniecības datu ekosistēma Latvijā un bibliotēku loma”
DESCRIPTION:Augstākās izglītības un zinātnes IT  koplietošanas  pakalpojumu centrs (VPC) un Latvijas Akadēmisko bibliotēku asociāciju (LATABA) aicina  bibliotēku darbiniekus uz tīmekļsemināru par pētniecības datu pārvaldību\, atvērto zinātni un bibliotēku speciālistu lomu Latvijas datu ekosistēmā. Pasākumu vadīs un pieredzē dalīsies pārstāvji no VPC\, RSU un RTU datu kuratoru komandām\, sniedzot ieskatu par tēmām: \n\nKas ir VPC un Latvijas datu kuratoru tīkls?\nIeskats par atvērto zinātni (Open Science) un pakalpojumu potenciāls bibliotēkām\nNo datu pārvaldības pamatiem līdz datu publicēšanai\nPētniecības datu avoti un datu meklēšana\n\nMērķauditorija: akadēmisko un publisko bibliotēku darbinieki \nDalība: latviešu valodā\, bez maksas \nReģistrācija: ŠEIT. \nPēc pieprasījuma tiks izsniegts apliecinājums par dalību \nVebināru organizē Augstākās izglītības un zinātnes IT  koplietošanas  pakalpojumu centrs (VPC) sadarbībā ar Latvijas Akadēmisko bibliotēku asociāciju (LATABA). \nKontaktinformācija:  \ndatukuratori@vpc.lv \nVPC datu kuratoru komanda \n  \nPasākuma organizatori veic personas datu apstrādi tikai pasākuma organizēšanas nolūkā. Savāktie dati tiks dzēsti uzreiz pēc pasākuma. Pasākums tiks ierakstīts. Videoieraksts būs publiski pieejams VPC YouTube kanālā. Ja nevēlaties\, lai jūsu video un audio ieraksti tiktu publicēti\, aicinām visa pasākuma laikā izslēgt gan kameru\, gan mikrofonu. \nPasākums organizēts projekta “Atbalsts atvērtās zinātnes ieviešanai praksē\, kā arī izveidoti risinājumi zinātnes datu koplietošanai un dalībai ES atvērtajā zinātnes mākonī” (Nr. 2.1.3.1.i.0/2/23/I/CFLA/002) ietvaros.
URL:https://dataverse.lv/en/event/vebinars-petniecibas-datu-ekosistema-latvija-un-biblioteku-loma/
LOCATION:Online
END:VEVENT
BEGIN:VEVENT
DTSTART;TZID=Europe/Helsinki:20260424T090000
DTEND;TZID=Europe/Helsinki:20260424T164500
DTSTAMP:20260420T115814
CREATED:20260408T170636Z
LAST-MODIFIED:20260415T080701Z
UID:4539-1777021200-1777049100@dataverse.lv
SUMMARY:Mācību seminārs “Pētniecības datu metadatu izveide: kvalitāte\, standarti\, dokumentācija”
DESCRIPTION:Aicinām pētniekus un datu kuratorus pieteikties uz mācību semināru par metadatu izveidi pētniecības datiem\, to pielietošanu labākai zinātnisko rezultātu atrodamībai un atpazīstamībai. Praktiski orientētā seminārā dalībnieki iepazīs metadatu veidus\, standartus un kvalitātes principus\, apgūs rīkus darbam ar metadatiem\, kā arī izzinās ontoloģiju un semantiskā tīmekļa pieejas datu atklāšanā. Tiks aplūkoti arī labās prakses piemēri\, un praktiskie uzdevumi ļaus izmēģināt metadatu pārvaldību un nostiprināt iegūtās zināšanas. \nMērķauditorija: datu kuratori\, pētnieki\, doktorantūras studenti \nDalība: latviešu valodā\, bez maksas \nReģistrācija: ŠEIT. \nPar lektoru: Eduards Skvireckis ir digitālo humanitāro zinātņu speciālists un datu arhitekts Latvijas Nacionālajā bibliotēkā (LNB). Eduards atbild par datu arhitektūru un starpsistēmu sadarbspēju Atsauces datu sistēmā (ATS) – Latvijas vienotajā kultūras mantojuma zināšanu bāzē. Latvijas Universitātē docē informācijas organizāciju un digitālos rīkus. Paralēli viņš studē doktorantūrā – LU DSP “Valodu un kultūras studijas”\, pētot neolatīņu tekstus ar kvantitatīvām metodēm. \nSaturs: \n\nMetadati\, to pārvaldība un loma pētniecībā (FAIR principi)\nMetadatu veidi\, standarti un formāti (Dublin Core\, DataCite\, schema.org\, XML\, JSON-LD)\nMetadatu kvalitāte un validācija\nRīki metadatu analīzei\, apstrādei\, pārbaudei (OpenRefine\, F-UJI\, Dataverse API)\nSaistītie dati un semantiskais tīmeklis\nOntoloģijas un kontrolētās vārdnīcas\nRDF un SPARQL pamati\nFAIR metadatu prakse Dataverse vidē\n\n Praktiskais nodrošinājums: \nDalībniekiem nepieciešams dators ar interneta pieslēgumu un pārlūkprogrammu (Chrome\, Firefox vai Edge). Praktiskajiem uzdevumiem tiks izmantoti tīmekļa rīki\, kas pieejami pārlūkprogrammā (bez instalācijas): Wikidata Query Service\, F-UJI\, Dataverse API\, Dataverse.lv \nPēc pieprasījuma tiks izsniegts apliecinājums par dalību \nPasākumu organizē: Augstākās izglītības un zinātnes IT  koplietošanas  pakalpojumu centrs (VPC) \nKontaktinformācija:  \ndatukuratori@vpc.lv \nVPC datu kuratoru komanda \nPasākuma organizatori veic personas datu apstrādi tikai pasākuma organizēšanas nolūkā. Savāktie dati tiks dzēsti uzreiz pēc pasākuma. Pasākums tiks ierakstīts. Videoieraksts vai tā daļa būs publiski pieejams VPC YouTube kanālā. Ja nevēlaties\, lai jūsu video un audio ieraksti tiktu publicēti\, aicinām visa pasākuma laikā izslēgt gan kameru\, gan mikrofonu.     \nPasākums organizēts projekta “Atbalsts atvērtās zinātnes ieviešanai praksē\, kā arī izveidoti risinājumi zinātnes datu koplietošanai un dalībai ES atvērtajā zinātnes mākonī” (Nr. 2.1.3.1.i.0/2/23/I/CFLA/002) ietvaros.
URL:https://dataverse.lv/en/event/macibu-seminars-petniecibas-datu-metadatu-izveide-kvalitate-standarti-dokumentacija/
END:VEVENT
BEGIN:VEVENT
DTSTART;TZID=Europe/Helsinki:20260428T093000
DTEND;TZID=Europe/Helsinki:20260429T170000
DTSTAMP:20260420T115814
CREATED:20260413T065221Z
LAST-MODIFIED:20260415T080800Z
UID:4568-1777368600-1777482000@dataverse.lv
SUMMARY:Anonymization\, Pseudonymization and Management of Sensitive Research Data
DESCRIPTION:We welcome researchers and other interested participants to a two-day seminar on the protection and processing of sensitive research data\, focusing on anonymization\, pseudonymization\, and their practical application in research. \nThe seminar provides a practical introduction to key concepts\, methods\, and tools for working with sensitive research data\, as well as guidance on how to manage such data securely throughout the research process. \nParticipation: in English\, free of charge \nRegistration for each seminar day is separate \n\nDay I registration\nDay II registration\n\nLecturer: Prof. Dr. Matthias Templ is the Head of the Competence Center for Data Quality and Anonymization and Head of the Swiss Data Anonymization Center at FHNW University of Applied Sciences and Arts Northwestern Switzerland. \nContent: \n\nTypes of sensitive data in research and associated risks\nBasic principles of data protection and privacy\nPseudonymization and its methods\nAnonymization and its methods\nRisks of identification and re-identification\nTools for anonymization and pseudonymization (e.g. ARX\, sdcMicro\, Amnesia\, Python- and R-based solutions)\nManaging sensitive data throughout the data lifecycle\nPreparing data for secure sharing and publishing\n\nSeminar materials will be sent to registered participants shortly before the event. \nA certificate of participation will be issued upon request \nThe event is organized by: Higher Education and Science IT Shared Service Centre (VPC) \nContact information:\ndatukuratori@vpc.lv\nVPC Data Stewards Team \nThe event organizers process personal data only for the purpose of organizing the event. The seminar will be recorded\, and the recordings will be made available to registered participants upon request. If you do not wish your video or audio to be recorded\, we encourage you to keep both your camera and microphone switched off throughout the event. \nThe event is organized within the project “Support for implementing Open Science\, developing solutions for shared use of research data\, and participation in the EOSC” (No. 2.1.3.1.i.0/2/23/I/CFLA/002).
URL:https://dataverse.lv/en/event/anonymization-pseudonymization-and-management-of-sensitive-research-data/
END:VEVENT
BEGIN:VEVENT
DTSTART;TZID=Europe/Helsinki:20260506T100000
DTEND;TZID=Europe/Helsinki:20260506T120000
DTSTAMP:20260420T115814
CREATED:20260417T081851Z
LAST-MODIFIED:20260417T114843Z
UID:4583-1778061600-1778068800@dataverse.lv
SUMMARY:DataverseLV – Celebrating the First Year in the Dataverse community
DESCRIPTION:Join us for a special event celebrating the first year of the DataverseLV research data repository and its growing role within the international Dataverse community.   \nThis event offers a unique opportunity to look back on the achievements of DataverseLV during its first year\, explore its impact on research data management in Latvia\, and learn about future developments. Kristaps Oškalns and Daina Kosīte (VPC) will share insights into the repository's journey\, milestones\, and vision ahead.  \nWe are also delighted to welcome representatives from The Dataverse Project at Harvard University. Sonia Barbosa\, Gustavo Durand and Philip Durbin will introduce the Dataverse software and provide a closer look at the vibrant global community that supports and advances open research data sharing.  \nWhether you are a researcher\, data steward\, librarian\, or simply interested in research data infrastructure\, this event is an excellent chance to connect\, learn\, and become part of the wider Dataverse network.  \nWhen: 6th of May \nWhere: LU Sapere Aude zālē\, Kalpaka bulvāris 4\, Rīga and online (Teams)\nRegistration: HERE   \nProgramme  \n\nOne year of DataverseLV research data repository in Latvia \n\nKristaps Oškalns\, Daina Kosīte (VPC)  \n\nMeeting the Dataverse Project team: overview of the Dataverse software and repository community worldwide \n\nSonia Barbosa\, Gustavo Durand\, Philip Durbin (The Dataverse Project\, Harvard University)  \nWe warmly invite you to join us and learn about the latest advances in open research data sharing! 
URL:https://dataverse.lv/en/event/dataverselv-celebrating-the-first-year-in-the-dataverse-community/
LOCATION:LU Sapere Aude zāle\, Kalpaka bulvāris 4\, Rīga\, Latvia
END:VEVENT
BEGIN:VEVENT
DTSTART;VALUE=DATE:20260521
DTEND;VALUE=DATE:20260522
DTSTAMP:20260420T115814
CREATED:20260302T151052Z
LAST-MODIFIED:20260302T151119Z
UID:4412-1779321600-1779407999@dataverse.lv
SUMMARY:Forward Together
DESCRIPTION:Join us for a national event bringing together four major initiatives advancing Latvia’s research and higher‑education ecosystem:\n\nSupport for implementing Open Science\, developing solutions for shared use of research data\, and participation in the EOSC (Nr. 2.1.3.1.i – Data Stewards) https://vpc.lv/data-stewards/\nDigitalization of Scientific Activity and Participation in the European Open Science Cloud (EOSC 1.1.1.6. ) https://vpc.lv/wp-content/uploads/2025/09/1116_liigums_par_prieksfinanseesanu_VPC.pdf\nResearch Information Management System (RIMS) https://vpc.lv/wp-content/uploads/2026/02/Ligums_PIVS_10.2025.pdf \nDigital Transformation of Higher Education (4.2.2.11.) https://vpc.lv/wp-content/uploads/2026/02/Liguma_1.pielikums_Liguma_visparigie_noteikumi.pdf \n\nIn this full‑day conference\, we will showcase new digital tools and services that are already available — or soon will be — to researchers\, scientific institutions\, and other stakeholders. Participants will have the opportunity to learn about the progress of various initiatives\, upcoming solutions\, and their impact on the development of higher education and science in Latvia. The program will include discussions with industry experts and collaboration partners\, panel sessions\, and interactive workshops. Throughout the conference\, we will explore how these sector-wide developments will shape Latvia’s academic and scientific environment in the future\, while also highlighting each project’s achievements to date and the direction of their planned next steps. \nRegister for the event here
URL:https://dataverse.lv/en/event/forward-together/
END:VEVENT
END:VCALENDAR